BEGIN:VCALENDAR
PRODID:-//PUBBLE//agenda//NL
VERSION:2.0
METHOD:PUBLISH
BEGIN:VEVENT
DTSTART:20250912T110000Z
DTEND:20250912T130000Z
DTSTAMP:20260422T173326Z
UID:9a238ec1-d20d-4876-b1d8-7ba8b0fa11fd
CREATED:20260422T173326Z
NAME:Koffie en thee inloop molenkruier.nl
X-WR-CALNAME:Koffie en thee inloop
X-ALT-DESC;FMTTYPE=text/html:<a href='/agenda/2025/9/12/koffie-en-thee-inloop-434059'>/agenda/2025/9/12/koffie-en-thee-inloop-434059</a> || <p>Met elkaar koffie en thee drinken en kletsen. Toegang is gratis.</p>
DESCRIPTION:<a href='/agenda/2025/9/12/koffie-en-thee-inloop-434059'>/agenda/2025/9/12/koffie-en-thee-inloop-434059</a> || <p>Met elkaar koffie en thee drinken en kletsen. Toegang is gratis.</p>
LAST-MODIFIED:20260422T173326Z
LOCATION: Leger des Heils Nieuwegein | Sluyterslaan 533 Nieuwegein
SEQUENCE:0
STATUS:CONFIRMED
SUMMARY:Koffie en thee inloop
TRANSP:OPAQUE
END:VEVENT
END:VCALENDAR
