BEGIN:VCALENDAR
PRODID:-//PUBBLE//agenda//NL
VERSION:2.0
METHOD:PUBLISH
BEGIN:VEVENT
DTSTART:20260419T113000Z
DTEND:20260419T123000Z
DTSTAMP:20260421T121415Z
UID:f8c9bb92-b803-4c5f-969c-99fbf05e9909
CREATED:20260421T121415Z
NAME:Open repetitiemiddag Cantare molenkruier.nl
X-WR-CALNAME:Open repetitiemiddag Cantare
X-ALT-DESC;FMTTYPE=text/html:<a href='/agenda/2026/4/19/open-repetitiemiddag-cantare-461545'>/agenda/2026/4/19/open-repetitiemiddag-cantare-461545</a> || <p>Zin om in koorverband fijn te zingen? Kom dan naar de repetitie van dameskoor Cantare. Inloop vanaf 13:15 uur. Aanmelden is niet nodig.</p>
DESCRIPTION:<a href='/agenda/2026/4/19/open-repetitiemiddag-cantare-461545'>/agenda/2026/4/19/open-repetitiemiddag-cantare-461545</a> || <p>Zin om in koorverband fijn te zingen? Kom dan naar de repetitie van dameskoor Cantare. Inloop vanaf 13:15 uur. Aanmelden is niet nodig.</p>
LAST-MODIFIED:20260421T121415Z
LOCATION: de Partner | Nedereindseweg 401A Nieuwegein
SEQUENCE:0
STATUS:CONFIRMED
SUMMARY:Open repetitiemiddag Cantare
TRANSP:OPAQUE
END:VEVENT
END:VCALENDAR
